BEGIN:VCALENDAR
PRODID:-//events.click-around.systems//click around EVENTS//DE
VERSION:2.0
METHOD:PUBLISH
BEGIN:VEVENT
CLASS:PUBLIC
DTSTART:20260425T140000
LOCATION:Moselstadion, Zeughausstraße, 54292 Trier
DTSTAMP:20260425T115000
SUMMARY:SV Eintracht Trier 05 e.V.
DESCRIPTION:
UID:EVENTS-10454-110638
END:VEVENT
END:VCALENDAR