BEGIN:VCALENDAR
PRODID:-//events.click-around.systems//click around EVENTS//EN
VERSION:2.0
METHOD:PUBLISH
BEGIN:VEVENT
CLASS:PUBLIC
DTSTART:20260422T093000
DTEND:20260422T180000
LOCATION:Tourist-Information Trier, An der Porta Nigra, 54290 Trier
DTSTAMP:20260424T084146
SUMMARY:Tourist Information Trier
DESCRIPTION:The tourist information office directly at Porta Nigra will assist you in planning your trip with advice and assistance and will help you with the organisation and preparation of your holiday or excursion trip to Trier and the surrounding area.\n\nThe team of Trier Tourismus und Marketing GmbH is also happy to assist you by phone on 0651 97808-0 or by e-mail (info@trier-info. de).
UID:EVENTS-106-96550
END:VEVENT
END:VCALENDAR