BEGIN:VCALENDAR
PRODID:-//events.click-around.systems//click around EVENTS//DE
VERSION:2.0
METHOD:PUBLISH
BEGIN:VEVENT
CLASS:PUBLIC
DTSTART:20260425T093000
DTEND:20260425T180000
LOCATION:Tourist-Information Trier, An der Porta Nigra, 54290 Trier
DTSTAMP:20260425T114434
SUMMARY:Tourist-Information Trier
DESCRIPTION:Die Tourist-Information direkt an der Porta Nigra steht Ihnen bei der Planung Ihrer Reise mit Rat und Tat zur Seite und ist Ihnen bei der Organisation und Vorbereitung Ihrer Urlaubs- bzw. Ausflugsfahrt nach Trier und in die nähere Umgebung behilflich.\n\nGerne steht Ihnen das Team der Trier Tourismus und Marketing GmbH auch telefonisch unter 0651 97808-0 und per E-Mail (info@trier-info.de) zur Verfügung.
UID:EVENTS-106-96553
END:VEVENT
END:VCALENDAR