BEGIN:VCALENDAR
PRODID:-//events.click-around.systems//click around EVENTS//EN
VERSION:2.0
METHOD:PUBLISH
BEGIN:VEVENT
CLASS:PUBLIC
DTSTART:20260418T110000
LOCATION:Vereinigte Hospitien, Weinkeller, Krahnenufer 19, 54290 Trier
DTSTAMP:20260424T085745
SUMMARY:Kellerentdeckerführung
DESCRIPTION:Discover the oldest wine cellar in Germany! Built in Roman Trier around 330 AD, the so-called "Horrea" served the citizens of the city as a warehouse and storehouse and later became part of the monastery complex of the St. Irminien-Oeren monastery. To this day, we grow our wines in this special place full of history. Today, our wine cellar is one of the highlights of wine culture in Germany (DWI) and is a hidden gem in the heart of Germany's oldest city.\n\nFor wine and culture lovers, we offer our "cellar discovery tour" every Wednesday, Friday and Saturday at 11:00 a.m.\n\nTake in the unique atmosphere of this highlight of wine culture in Trier on a 50-minute tour of our historic cellar and taste two selected wines from our VDP. GrosseLagen vineyards of the Saar and Mosel with us in our spacious wine cellar.\n\nPlease book a free ticket for accompanying children up to and including 15 years of age.
UID:EVENTS-10913-89776
END:VEVENT
END:VCALENDAR