BEGIN:VCALENDAR
PRODID:-//events.click-around.systems//click around EVENTS//DE
VERSION:2.0
METHOD:PUBLISH
BEGIN:VEVENT
CLASS:PUBLIC
DTSTART:20260425T110000
LOCATION:Vereinigte Hospitien, Weinkeller, Krahnenufer 19, 54290 Trier
DTSTAMP:20260425T114939
SUMMARY:Kellerentdeckerführung
DESCRIPTION:Entdecken Sie den ältesten Weinkeller Deutschlands! Erbaut im römischen Trier um 330 n. Chr.  diente die sogenannte „Horrea“ den Bürgern der Stadt als Magazin und Speicherhaus und wurde später Teil der Klosteranlage des Stiftes St.Irminien-Oeren. Bis heute bauen wir unsere Weine an diesem besonderen Ort voller Geschichte aus. Heute zählt unser Weinkeller  zu den Höhepunkten der Weinkultur in Deutschland (DWI) und liegt als verstecktes Kleinod im Herzen der ältesten Stadt Deutschlands.\n\nFür Wein- und Kulturliebhaber bieten wir jeweils mittwochs, freitags und samstags um 11:00 Uhr unsere "Keller-Entdeckerführung" an.\n\nLassen Sie sich bei einem rund 50 - minütigen Rundgang durch unseren historischen Keller die einmalige Atmosphäre dieses Höhepunktes der Weinkultur in Trier auf sich wirken und verkosten Sie zusammen mit uns in unserem weitläufigen Weinkeller zwei ausgewählte Weine aus unseren VDP. GrosseLagen Weinbergen von Saar und Mosel.\n\nBitte für begleitende Kinder bis einschliesslich 15 Jahren eine Freikarte einbuchen.
UID:EVENTS-10913-89777
END:VEVENT
END:VCALENDAR