BEGIN:VCALENDAR
PRODID:-//events.click-around.systems//click around EVENTS//EN
VERSION:2.0
METHOD:PUBLISH
BEGIN:VEVENT
CLASS:PUBLIC
DTSTART:20260418T153000
LOCATION:Becker's Hotel & Restaurant, Weinbar, Olewiger Straße 206, 54295 Trier
DTSTAMP:20260424T090006
SUMMARY:weinGENUSSprobe
DESCRIPTION:for wine lovers/snobs/beginners/professionals/experts/doers/interested parties/connoisseurs/for you/for everyone\n\n6 wines, 1 sparkling wine & 6 bowls\n\nguided tasting\nRegistration every Saturday until 12 noon
UID:EVENTS-11192-107688
END:VEVENT
END:VCALENDAR