BEGIN:VCALENDAR
PRODID:-//events.click-around.systems//click around EVENTS//EN
VERSION:2.0
METHOD:PUBLISH
BEGIN:VEVENT
CLASS:PUBLIC
DTSTART:20260418T063000
DTEND:20260418T180000
LOCATION:Hohe Domkirche, Domfreihof, 54290 Trier
DTSTAMP:20260424T091608
SUMMARY:Cathedral
DESCRIPTION:In the heart of the city, the present Cathedral stands on top of a former Constantinian Palace. After Constantine's last visit to Trier in A.D. 328/9, the palace was leveled in 330 and replaced by the largest Christian church in Antiquity, about four times as big as the present-day church and covering the area of the Cathedral and the Church of Our Lady, the Cathedral Square, the adjoining garden, and the houses almost up to the market.
UID:EVENTS-112-98254
END:VEVENT
END:VCALENDAR