BEGIN:VCALENDAR
PRODID:-//events.click-around.systems//click around EVENTS//DE
VERSION:2.0
METHOD:PUBLISH
BEGIN:VEVENT
CLASS:PUBLIC
DTSTART:20260425T063000
DTEND:20260425T180000
LOCATION:Hohe Domkirche, Domfreihof, 54290 Trier
DTSTAMP:20260425T114510
SUMMARY:Dom
DESCRIPTION:Mitten im Trierer Stadtzentrum gelegen steht der Trierer Dom heute über einer ehemaligen konstantinischen Palastanlage. Nach Konstantins letztem Aufenthalt in Trier 328/29 wurde der Palast niedergelegt und 330 durch die größte christliche Kirche der Antike überbaut. Diese war etwa viermal so groß wie der heutige Dom und bedeckte die Fläche von Dom, Liebfrauen, Domfreihof und anstehenden Häusern mit Gärten und reichte damit fast bis zum Hauptmarkt.\n\nKeine Besichtigung während Gottesdiensten
UID:EVENTS-112-98261
END:VEVENT
END:VCALENDAR