BEGIN:VCALENDAR
PRODID:-//events.click-around.systems//click around EVENTS//DE
VERSION:2.0
METHOD:PUBLISH
BEGIN:VEVENT
CLASS:PUBLIC
DTSTART:20260425T120000
LOCATION:Rheinisches Landesmuseum, Weimarer Allee 1, 54290 Trier
DTSTAMP:20260425T114434
SUMMARY:Im Reich der Schatten
DESCRIPTION:Leben und Lieben im Römischen Trier\n\nDer um seine geliebte Frau trauernde Albinius Asper und der gewitzte Gott Merkur sind die Hauptpersonen in der mitreißenden Geschichte: Auf der Suche nach der verstorbenen Secundia begeben sich die ungleichen Gefährten auf eine turbulente Reise durch die Unterwelt und begegnen dort Gestalten aus dem römischen Trier, Wagenlenkern, Weinhändlern und eitlen Matronen. Merkur hat dabei nur eins im Sinn: Den schwermütigen Asper durch zahlreiche Versuchungen seine Frau vergessen zu lassen...\n\n„Im Reich der Schatten“ ist ein Museumserlebnis in neuer, noch nie da gewesener Dimension. Modernste Technik projiziert die Reise des Asper auf originale, meterhohe römische Grabdenkmäler und Wandflächen. In der Verbindung aus jahrhundertealten, authentischen Originalexponaten und Bildern, Sprache und Tönen entsteht ein poetisches Spiel, das die antiken Reliefs zu neuem Leben erweckt.\n\nDas einmalige Schauspiel wurde gemeinsam mit international renommierten Künstlern entwickelt und mit modernster Technik und künstlerischem Handwerk umgesetzt. Die Drehbuchentstehung durch namhafte Autoren wurde von Archäologen und Historikern des Museums begleitet. Die Stimmen von Christoph Maria Herbst und Peter Striebeck verleihen den Hauptpersonen Merkur und Albinius Asper einen ganz besonderen Charakter.\n\nDie 45minütigen Vorführungen finden wie folgt statt:\nSamstags, sonntags und an Feiertagen jeweils um 12:00 Uhr\nMittwochs um 14:30 Uhr\n\nDie Karte ist nur für das Raumtheater gültig!\nKombikarten Raumtheater + Museum sind ebenfalls buchbar!\n\nErmäßigt sind: Schüler/innen über 18 Jahre, Studierende, Auszubildende, FSJ-Leistende, Rentner/innen, Arbeitslose, Schwerbehinderte, jeweils mit Nachweis\n\nBitte finden Sie sich mindestens 20 Minuten vor Beginn der Vorführung am Veranstaltungsort ein.\n\nEin Projekt der Generaldirektion Kulturelles Erbe Rheinland-Pfalz, Direktion Rheinisches Landesmuseum Trier.
UID:EVENTS-11739-85331
END:VEVENT
END:VCALENDAR