BEGIN:VCALENDAR
PRODID:-//events.click-around.systems//click around EVENTS//EN
VERSION:2.0
METHOD:PUBLISH
BEGIN:VEVENT
CLASS:PUBLIC
DTSTART:20260418T140000
LOCATION:Moselstadion, Zeughausstraße, 54292 Trier
DTSTAMP:20260424T084502
SUMMARY:SV Eintracht Trier 05 e.V.
DESCRIPTION:
UID:EVENTS-11788-110637
END:VEVENT
END:VCALENDAR