BEGIN:VCALENDAR
PRODID:-//events.click-around.systems//click around EVENTS//EN
VERSION:2.0
METHOD:PUBLISH
BEGIN:VEVENT
CLASS:PUBLIC
DTSTART:20260420T000000
LOCATION:Stadtmuseum Simeonstift, Simeonstiftplatz, 54290 Trier
DTSTAMP:20260424T085933
SUMMARY:City Museum
DESCRIPTION:The City Museum (Stadtmuseum Simeonstift Trier, fee), located in the Simeon's College next to the Porta Nigra, houses collections from Trier's medieval and early modern eras, plus several outstanding donations. For example, the Schunck Collection of paintings from the Renaissance to the twentieth century and a collection of Coptic textiles dating from the third to the ninth centuries (over 300 pieces). This is complemented by Egyptian mummy portraits, Coptic statuettes, and antique oil lamps from the Mummenthey Collection of lamps.
UID:EVENTS-118-106690
END:VEVENT
END:VCALENDAR