BEGIN:VCALENDAR
PRODID:-//events.click-around.systems//click around EVENTS//DE
VERSION:2.0
METHOD:PUBLISH
BEGIN:VEVENT
CLASS:PUBLIC
DTSTART:20260425T150000
DTEND:20260425T170000
LOCATION:Stadtmuseum Simeonstift, Simeonstiftplatz, 54290 Trier
DTSTAMP:20260425T114643
SUMMARY:Jugendclub
DESCRIPTION:Du hast Interesse an Kunst, wolltest schon immer mal einen Blick hinter die Kulissen eines Museums werfen und dabei noch selbst kreativ sein? Du möchtest andere Jugendliche kennenlernen und mit ihnen über Kunst sprechen. Dann schau doch beim Jugendclub des Stadtmuseums Simeonstift vorbei!\n\nWir treffen uns ein- bis zweimal im Monat, um quer durch die Jahrhunderte Kunstwerke bedeutender Künstler kennenzulernen – vor allem aber um Kunst einmal selbst auszuprobieren.\nInfos und exklusive Vorteile\n•	1-2 Treffen pro Monat\n•	Freier Eintritt mit dem Jahresbeitrag\n•	Teilnahme an exklusiven Angeboten\n•	Blick hinter die Kulissen
UID:EVENTS-12058-112955
END:VEVENT
END:VCALENDAR