BEGIN:VCALENDAR
PRODID:-//events.click-around.systems//click around EVENTS//EN
VERSION:2.0
METHOD:PUBLISH
BEGIN:VEVENT
CLASS:PUBLIC
DTSTART:20260422T090000
DTEND:20260422T170000
LOCATION:Museum am Dom, Platz der Menschenwürde 1, 54290 Trier
DTSTAMP:20260424T090102
SUMMARY:Cathedral Museum
DESCRIPTION:The modern light-filled museum was formerly a Prussian prison and displays, among other exhibits, works of Christian art and liturgical objects along with artifacts important in the history of the Church. The inventory is rich in sculptures, liturgical vestments, and altar furnishings. The coin and medallion collection encompasses primarily objects from the former Trier archdiocese. Trier’s ancient past is also reflected in the museum collection. After ten years of restoration work, the highly important Constantine ceiling paintings from the imperial palace and Cathedral are on view.
UID:EVENTS-125-104684
END:VEVENT
END:VCALENDAR