BEGIN:VCALENDAR
PRODID:-//events.click-around.systems//click around EVENTS//DE
VERSION:2.0
METHOD:PUBLISH
BEGIN:VEVENT
CLASS:PUBLIC
DTSTART:20260425T090000
DTEND:20260425T170000
LOCATION:Museum am Dom, Platz der Menschenwürde 1, 54290 Trier
DTSTAMP:20260425T114520
SUMMARY:Museum am Dom
DESCRIPTION:Das moderne lichtdurchflutete Museum war ehemals ein königlich-preußisches Gefängnis und zeigt u.a. Werke christlicher Kunst und religiösen Brauchtums sowie Gegenstände von kirchengeschichtlicher Bedeutung. Reich ist der Bestand an Skulpturen, liturgischen Gewändern und Altargerät. Die Münzen- und Medaillensammlung umfaßt vorwiegend Objekte aus dem Erzstift Trier. Auch die antike Vergangenheit der Stadt Trier spiegelt sich im Sammlungsbestand des Museums wider. Nach zehnjähriger Restaurierungsarbeit sind hier bedeutende konstantinische Deckenmalereien aus der kaiserlichen Palastanlage und des Doms zu sehen.
UID:EVENTS-125-104687
END:VEVENT
END:VCALENDAR