BEGIN:VCALENDAR
PRODID:-//events.click-around.systems//click around EVENTS//EN
VERSION:2.0
METHOD:PUBLISH
BEGIN:VEVENT
CLASS:PUBLIC
DTSTART:20260420T083000
LOCATION:Hildegardis-Apotheke Pharmacy, Rheinstraße 3, 54290 Trier
DTSTAMP:20260424T085731
SUMMARY:Hildegardis-Apotheke
DESCRIPTION:
UID:EVENTS-12603-106746
END:VEVENT
END:VCALENDAR