BEGIN:VCALENDAR
PRODID:-//events.click-around.systems//click around EVENTS//DE
VERSION:2.0
METHOD:PUBLISH
BEGIN:VEVENT
CLASS:PUBLIC
DTSTART:20260425T083000
LOCATION:Martinus-Apotheke, Meierstraße 2, 54294 Trier
DTSTAMP:20260425T114553
SUMMARY:Notdienst in der Martinus-Apotheke
DESCRIPTION:
UID:EVENTS-12609-106751
END:VEVENT
END:VCALENDAR