BEGIN:VCALENDAR
PRODID:-//events.click-around.systems//click around EVENTS//EN
VERSION:2.0
METHOD:PUBLISH
BEGIN:VEVENT
CLASS:PUBLIC
DTSTART:20260422T083000
LOCATION:St. Petrus-Apotheke Pharmacy, Gartenfeldstraße 15, 54295 Trier
DTSTAMP:20260424T085912
SUMMARY:St. Petrus-Apotheke
DESCRIPTION:
UID:EVENTS-12613-106748
END:VEVENT
END:VCALENDAR