BEGIN:VCALENDAR
PRODID:-//events.click-around.systems//click around EVENTS//EN
VERSION:2.0
METHOD:PUBLISH
BEGIN:VEVENT
CLASS:PUBLIC
DTSTART:20260420T140000
DTEND:20260420T220000
LOCATION:Das Bad an den Kaiserthermen, Südallee 10-12, 54290 Trier
DTSTAMP:20260424T085438
SUMMARY:SaunaGarten at the Kaiserthermen
DESCRIPTION:1,500 square meters of premium saunas in the garden, awarded by the German Sauna Association: hot-cold pleasure in a class of its own awaits you in the spacious outdoor area. Several saunas provide plenty of variety when taking a sauna:\n\nKeisari Sauna (Imperial Sauna):\nSpecial infusions, special events and open space.\n\nMaa sauna (earth sauna):\nIn the earth sauna you will get to know a new (old) type of sweat culture.\n\nTuli sauna (fire sauna):\nAn open fire heats up in the Tuli sauna.\n\nRelaxation in the garden:\nOutdoor recreation is very important. You should feel comfortable and find your place to relax and unwind.\n\nLadies' sauna on Mondays, communal sauna on all other days (separate sauna offer available for female guests).\n\n\nDuration: 7 hours
UID:EVENTS-127-95778
END:VEVENT
END:VCALENDAR