BEGIN:VCALENDAR
PRODID:-//events.click-around.systems//click around EVENTS//DE
VERSION:2.0
METHOD:PUBLISH
BEGIN:VEVENT
CLASS:PUBLIC
DTSTART:20260425T120000
DTEND:20260425T220000
LOCATION:Das Bad an den Kaiserthermen, Südallee 10-12, 54290 Trier
DTSTAMP:20260425T114532
SUMMARY:SaunaGarten an den Kaiserthermen
DESCRIPTION:1.500 Quadratmeter Premium-Saunieren im Garten, ausgezeichnet vom Deutschen Sauna-Bund: In der großzügigen Außenanlage erwartet Sie heißkaltes Vergnügen der Extraklasse. Mehrere Saunen sorgen für reichlich Abwechslung beim Saunieren:\n\nKeisari-Sauna (Kaisersauna):\nSpezialaufgüsse, besondere Events und Freiraum. \n\nMaa-Sauna (Erdsauna):\nIn der Erdsauna lernen Sie einen neuen (alten) Typ von Schwitzkultur kennen.\n\nTuli-Sauna (Feuersauna):\nIn der Tuli-Sauna heizt ein offenes Feuer ein. \n\nErholung im Garten:\nErholung wird im Außenbereich groß geschrieben. Sie sollen sich wohl fühlen und Ihren Ort zum Entspannen und Abschalten finden.\n\nMontags Damensauna, an allen anderen Tagen Gemeinschaftssauna (für die weiblichen Gäste separates Saunaangebot verfügbar).\n\n\nDauer: 7 Stunden
UID:EVENTS-127-95897
END:VEVENT
END:VCALENDAR