BEGIN:VCALENDAR
PRODID:-//events.click-around.systems//click around EVENTS//EN
VERSION:2.0
METHOD:PUBLISH
BEGIN:VEVENT
CLASS:PUBLIC
DTSTART:20260422T190000
LOCATION:Nells Park Hotel, Orangerie, Dasbachstraße 12, 54292 Trier
DTSTAMP:20260424T090032
SUMMARY:ABBA Royal
DESCRIPTION:WORLD of DINNER and the Nells Park Hotel celebrate one of the most successful bands in music history. Live and unplugged, the authentic tribute band ABBA Royal presents immortal ABBA hits, accompanied by an exquisite four-course menu.\n\nWith stunningly authentic voices, the musicians of ABBA Royal perform global hits such as "Dancing Queen," "Super Trouper," and "Waterloo," bringing the 1974 Eurovision Song Contest to life.\n\nDinner guests are invited to the homes of "Agnetha," "Björn," "Benny," and "Anni-Frid" as musicians, friends of the band, or stars of the 70s. A prize will be awarded for the best ABBA look.\n\nDoors open: 7:00 PM
UID:EVENTS-13153-85557
END:VEVENT
END:VCALENDAR