BEGIN:VCALENDAR
PRODID:-//events.click-around.systems//click around EVENTS//EN
VERSION:2.0
METHOD:PUBLISH
BEGIN:VEVENT
CLASS:PUBLIC
DTSTART:20260420T190000
LOCATION:Tuchfabrik, Großer Saal, Wechselstraße 4, 54290 Trier
DTSTAMP:20260424T085650
SUMMARY:Just Sing - Public Singing in Trier
DESCRIPTION:One Evening – One Song – Many Voices\n\nJulia Reidenbach invites you to an evening full of fun, music, and goosebump moments. Age, vocal range, or experience? It doesn't matter!\n\nIf you sing in the shower, whistle to yourself at red lights, or secretly hum a tune on your way to the fridge, then JUST SING is the perfect event for you.\n\nWith plenty of wit, charm, and good humor, Julia will guide everyone who enjoys singing through the evening. Together, you'll learn a catchy pop song – in two or three parts, accompanied by a live band. And the best part: You don't need any prior musical knowledge at all.\n\nForget the stress of everyday life for a few hours and experience firsthand the special atmosphere that arises when many people sing together.\n\nWe bet you'll go home happy afterward!\n\nNote: As part of our public relations, PR, and marketing activities, photos and videos may be taken during the event. These details will only be used for this purpose and will not be shared with third parties.\n\nDoors open 30 minutes before the start.
UID:EVENTS-13199-85892
END:VEVENT
END:VCALENDAR