BEGIN:VCALENDAR
PRODID:-//events.click-around.systems//click around EVENTS//EN
VERSION:2.0
METHOD:PUBLISH
BEGIN:VEVENT
CLASS:PUBLIC
DTSTART:20260420T200000
LOCATION:SWT Arena, Fort-Worth-Platz 1, 54292 Trier
DTSTAMP:20260424T085531
SUMMARY:VET-CONCEPT Gladiators Trier
DESCRIPTION:
UID:EVENTS-13593-110646
END:VEVENT
END:VCALENDAR