BEGIN:VCALENDAR
PRODID:-//events.click-around.systems//click around EVENTS//DE
VERSION:2.0
METHOD:PUBLISH
BEGIN:VEVENT
CLASS:PUBLIC
DTSTART:20260425T090000
LOCATION:Verschiedene, 54290 Trier
DTSTAMP:20260425T114843
SUMMARY:Rheinland-Pfalz Triennale
DESCRIPTION:Vom 24.⁠ ⁠April bis 31. Mai 2026 findet in Trier erstmals die Rheinland-Pfalz Triennale (RPT) statt – ein neues, landesweites Ausstellungsformat für zeitgenössische Kunst mit besonderem Fokus auf Sichtbarkeit, Teilhabe und Dialog.\nDie Triennale steht in der Tradition der Landeskunstschau und führt das Format Flux4Art fort. Aus über 500 eingegangenen Bewerbungen wählte eine hochkarätige Jury 53 künstlerische Positionen aus – ausschließlich Arbeiten von Künstlerinnen und Künstlern, die durch ihre Verbindung zu Rheinland-Pfalz das kulturelle Profil des Landes mitprägen.\nErgänzt werden die kuratierten Ausstellungen durch das partizipative Format „Die Lokale“, das Vereinen, Initiativen und Kulturschaffenden aus Trier und Umgebung Raum für eigene Beiträge bietet.\nMit Orten wie der Kunsthalle Trier, der TUFA, der EGP-Bühne, den römischen Baudenkmälern sowie den kirchlichen Bauten verschiedener Epochen schafft die Stadt ein einzigartiges Umfeld, in dem sich Gegenwartskunst und historische Topografie in besonderer Weise begegnen.
UID:EVENTS-13680-90164
END:VEVENT
END:VCALENDAR