BEGIN:VCALENDAR
PRODID:-//events.click-around.systems//click around EVENTS//EN
VERSION:2.0
METHOD:PUBLISH
BEGIN:VEVENT
CLASS:PUBLIC
DTSTART:20260418T111500
LOCATION:City dock Zurlauben, Zurlaubener Ufer, 54292 Trier
DTSTAMP:20260424T084650
SUMMARY:Kleine Panorama-Rundfahrt ab Zurlauben (1 Stunde)
DESCRIPTION:Even the ancient Romans enjoyed a boat trip on the Moselle or Saar rivers. Today, we offer you this unique experience in much greater comfort with our modern and comfortable passenger ships.\n\nDuring the 1-hour panoramic cruise from Trier:\n\n(Departures at 11:15 a.m., 1:45 p.m., and 4:15 p.m.): You will travel either towards the Trier lock, passing the Marian Column, the old cranes, the Roman Bridge, and St. Matthias' Abbey, before turning around before the lock.\n\nor\n\n(Departures at 12:30 p.m. and 3:00 p.m.): You will travel towards Pfalzel, passing the red sandstone cliffs, our own "Trier Shipyard," the Pfalzel district, and finally reaching the mouth of the Ruwer River.\n\nThe cruise ends after 1 hour back in Trier-Zurlauben.\n\n*****Tip: If you'd like to experience both directions, book "In the Footsteps of the Romans."*****\n\n<a href="https://www.ticket-regional.de/events_info.php?eventID=234568" class="underline"> Click HERE</a> to book these trips.\n\nHop aboard and experience the Moselle up close.
UID:EVENTS-13698-90278
END:VEVENT
END:VCALENDAR