BEGIN:VCALENDAR
PRODID:-//events.click-around.systems//click around EVENTS//DE
VERSION:2.0
METHOD:PUBLISH
BEGIN:VEVENT
CLASS:PUBLIC
DTSTART:20260425T111500
LOCATION:Stadthafen Zurlauben, Zurlaubener Ufer, 54292 Trier
DTSTAMP:20260425T114801
SUMMARY:Kleine Panorama-Rundfahrt ab Zurlauben (1 Stunde)
DESCRIPTION:Eine Schifffahrt auf Mosel oder Saar haben schon die alten Römer genossen. Wir bieten Ihnen dieses einmalige Erlebnis heute wesentlich komfortabler mit unseren bequemen und modernen Fahrgastschiffen.\n\nWährend der 1-stündigen Panorama-Rundfahrt ab Trier:\n\n(Abfahrten um 11.15 Uhr, 13.45 Uhr und 16.15 Uhr): Sie fahren entweder Richtung Schleuse Trier entlang der Mariensäule, den alten Kränen, der Römerbrücke, der Abtei St. Matthias und wenden vor der Schleuse.\n\noder\n\n(Abfahrten um 12.30 Uhr und 15.00 Uhr): Sie fahren in Richtung Pfalzel, Sie passieren den roten Sandsteinfelsen, unsere eigene „Schiffswerft Trier“, den Stadtteil Pfalzel bis hin zur Ruwermündung.\n\nDie Schifffahrt endet nach 1 Stunde wieder in Trier-Zurlauben.\n\n*****Tipp: Wenn Sie beide Richtungen erleben wollen, dann buchen Sie „Auf den Spuren der Römer“.*****\n<a href="https://www.ticket-regional.de/events_info.php?eventID=234568" class="underline"> HIER</a> gelangen Sie zur Buchung dieser Fahrten.\n\nSteigen Sie ein und erleben Sie die Mosel ganz nah.
UID:EVENTS-13698-90280
END:VEVENT
END:VCALENDAR