BEGIN:VCALENDAR
PRODID:-//events.click-around.systems//click around EVENTS//EN
VERSION:2.0
METHOD:PUBLISH
BEGIN:VEVENT
CLASS:PUBLIC
DTSTART:20260420T134500
LOCATION:City dock Zurlauben, Zurlaubener Ufer, 54292 Trier
DTSTAMP:20260424T085940
SUMMARY:Auf den Spuren der Römer - Rundfahrt ab Zurlauben (2 Stunden)
DESCRIPTION:Even the ancient Romans enjoyed a boat trip on the Moselle or Saar rivers. Today, we offer you this unique experience in much greater comfort with our modern and comfortable passenger ships.\n\n"In the Footsteps of the Romans" Round Trip:\n\nYou'll travel towards the Trier lock, passing the Marian Column, the old cranes, the Roman Bridge, and St. Matthias' Abbey, before turning around before the lock.\n\nAfter a short stop in Zurlauben, you'll continue towards Pfalzel, passing the red sandstone cliffs, our own "Trier Shipyard," the Pfalzel district, and finally reaching the mouth of the Ruwer River.\n\nThe cruise ends after 2 ¼ hours back in Trier-Zurlauben.\n\nThe route may vary depending on the time of day.\n\nCome aboard and experience the Moselle up close!
UID:EVENTS-13699-91288
END:VEVENT
END:VCALENDAR