BEGIN:VCALENDAR
PRODID:-//events.click-around.systems//click around EVENTS//DE
VERSION:2.0
METHOD:PUBLISH
BEGIN:VEVENT
CLASS:PUBLIC
DTSTART:20260425T111500
LOCATION:Stadthafen Zurlauben, Zurlaubener Ufer, 54292 Trier
DTSTAMP:20260425T114955
SUMMARY:Auf den Spuren der Römer - Rundfahrt ab Zurlauben (2 Stunden)
DESCRIPTION:Eine Schifffahrt auf Mosel oder Saar haben schon die alten Römer genossen. Wir bieten Ihnen dieses einmalige Erlebnis heute wesentlich komfortabler mit unseren bequemen und modernen Fahrgastschiffen.\n\n"Auf den Spuren der Römer" Rundfahrt: \n\nSie fahren Richtung Schleuse Trier entlang der Mariensäule, den alten Kränen, der Römerbrücke, der Abtei St. Matthias und wenden vor der Schleuse. \n\nNach einem kurzen Stopp in Zurlauben fahren Sie weiter in Richtung Pfalzel, Sie passieren den roten Sandsteinfelsen, unsere eigene „Schiffswerft Trier“, den Stadtteil Pfalzel bis hin zur Ruwermündung.\n\nDie Schifffahrt endet nach 2 ¼ Stunden wieder in Trier-Zurlauben. \nFahrtstreckenreihenfolge kann sich je nach Uhrzeit variieren. \n\nSteigen Sie ein und erleben Sie die Mosel ganz nah.
UID:EVENTS-13699-91307
END:VEVENT
END:VCALENDAR