BEGIN:VCALENDAR
PRODID:-//events.click-around.systems//click around EVENTS//EN
VERSION:2.0
METHOD:PUBLISH
BEGIN:VEVENT
CLASS:PUBLIC
DTSTART:20260418T000000
LOCATION:Tuchfabrik, Ausstellungsraum 2. OG, Wechselstraße 4, 54290 Trier
DTSTAMP:20260424T085532
SUMMARY:Das besondere Licht
DESCRIPTION:"The Special Light"\n\n2026 Member Exhibition of the Trier Photographic Society\n\nWithout light, there can be no image—but what is SPECIAL LIGHT?\n\nLight, which is essential for every photograph, comes in an infinite number of facets. But when is this element, which is so important to us, special, and how can it be used to create an impressive scene in a photograph? \n\nOur photographers have explored this question and captured “special light” in many facets: as a spotlight on objects, sunbeams in the sky or in nature, a solitary light in the darkness, morning or evening atmosphere, reflections, sun, moon, stars, lanterns, candles, lights in traffic, natural phenomena such as fog, rain, sunsets or sunrises, cast shadows, backlighting, ...\n\nOur photographers have put these and other types of “special light” in the “right light” and captured a moment, a mood in an extraordinary light composition for eternity and for this exhibition.
UID:EVENTS-13948-94903
END:VEVENT
END:VCALENDAR