BEGIN:VCALENDAR
PRODID:-//events.click-around.systems//click around EVENTS//EN
VERSION:2.0
METHOD:PUBLISH
BEGIN:VEVENT
CLASS:PUBLIC
DTSTART:20260418T200000
LOCATION:Universität, Audimax, Universitätsring, 54296 Trier
DTSTAMP:20260424T085649
SUMMARY:Big Band Art of Music - Showtime
DESCRIPTION:Zugunsten des Fördervereins Krebskranker Kinder und des Frauennotrufs in Trier!\n\nEINTRITT FREI - SPENDE WILLKOMMEN
UID:EVENTS-14081-95655
END:VEVENT
END:VCALENDAR