BEGIN:VCALENDAR
PRODID:-//events.click-around.systems//click around EVENTS//EN
VERSION:2.0
METHOD:PUBLISH
BEGIN:VEVENT
CLASS:PUBLIC
DTSTART:20260422T193000
LOCATION:Kasino, Am Kornmarkt 1-3, 54290 Trier
DTSTAMP:20260424T090006
SUMMARY:Doppelkopf
DESCRIPTION:Die zwei Imitatoren Enno und Steff – der eine am Beginn seiner Laufbahn, der andere schon routiniert – sollen ein Autohaus eröffnen. Eine undankbare Aufgabe, zumal sie doch eines der \nikonischsten Duos der Musikgeschichte darstellen: Frank Sinatra und Marilyn Monroe. In einer notdürftig zur Garderobe umfunktionierten Rumpelkammer stellen sie das musikalische Programm \nzusammen und reflektieren Leben und Karriere.\n„Doppelkopf“ erzählt vom Leben der beiden Legenden, aber ebenso vom Künstlerdasein, vom Drang nach der Bühne, vom Zweifel, der Einsamkeit und dem Gefühl, auch in der zweiten Reihe alles \nzu geben. Ein Paradestück für die beiden Trierer Publikumslieblinge Giovanni Rupp und Stephan Vanecek!
UID:EVENTS-14208-108112
END:VEVENT
END:VCALENDAR