BEGIN:VCALENDAR
PRODID:-//events.click-around.systems//click around EVENTS//EN
VERSION:2.0
METHOD:PUBLISH
BEGIN:VEVENT
CLASS:PUBLIC
DTSTART:20260418T150000
LOCATION:Broadway Filmtheater, Paulinstraße 18, 54292 Trier
DTSTAMP:20260424T084313
SUMMARY:Checker Tobi 3-Die heimliche Herrscherin der Erde
DESCRIPTION:Nach dem großen Erfolg von Checker Tobi und die Reise zu den fliegenden Flüssen mit rund 1,4 Millionen Kinozuschauer*innen erforscht Tobi in seinem dritten Kinofilm das Element Erde. Dabei gerät er in sein bisher persönlichstes Abenteuer. Denn diesmal ist sein Herausforderer er selbst! \nIn Checker Tobi 3 – Die heimliche Herrscherin der Erde entdecken Tobi und Marina beim Ausmisten  seines Kellers eine alte Videoaufnahme: Darin moderiert der achtjährige Tobi eine selbst erfundene Show über die Erde in unseren Böden – und stellt seine allererste „Checker-Frage“: Wer hinterlässt die mächtigsten Spuren im Erdreich? Doch Tobi hat die Antwort vergessen. Die Suche nach der Antwort führt ihn in die einzigartige Tier- und Pflanzenwelt Madagaskars, tief in den Permafrostboden Spitzbergens und auf die Spuren der alten Maya nach Mexiko.  Erst als er erkennt, was alle Böden miteinander verbindet – und was das mit uns zu tun hat – kann er seinem größten Herausforderer, sich selbst, eine Antwort geben. \nNach den ersten beiden Checker Tobi-Kinofilmen, die ein Millionenpublikum erreichten, begeistert der beliebte KiKa-Moderator auch diesmal mit Abenteuer, Witz und Wissen – und zeigt, dass Bildung richtig Spaß machen kann!
UID:EVENTS-14257-114679
END:VEVENT
END:VCALENDAR