BEGIN:VCALENDAR
PRODID:-//events.click-around.systems//click around EVENTS//DE
VERSION:2.0
METHOD:PUBLISH
BEGIN:VEVENT
CLASS:PUBLIC
DTSTART:20260425T210000
LOCATION:Domfreihof, Domfreihof, 54290 Trier
DTSTAMP:20260425T115117
SUMMARY:Heilig-Rock-Tage
DESCRIPTION:
UID:EVENTS-14301-108553
END:VEVENT
END:VCALENDAR