BEGIN:VCALENDAR
PRODID:-//events.click-around.systems//click around EVENTS//EN
VERSION:2.0
METHOD:PUBLISH
BEGIN:VEVENT
CLASS:PUBLIC
DTSTART:20260420T160000
LOCATION:Domfreihof, Domfreihof, 54290 Trier
DTSTAMP:20260424T085455
SUMMARY:Heilig-Rock-Tage
DESCRIPTION:
UID:EVENTS-14301-108556
END:VEVENT
END:VCALENDAR