BEGIN:VCALENDAR
PRODID:-//events.click-around.systems//click around EVENTS//EN
VERSION:2.0
METHOD:PUBLISH
BEGIN:VEVENT
CLASS:PUBLIC
DTSTART:20260420T143000
DTEND:20260420T151500
LOCATION:Liebfrauenkirche, Liebfrauenstraße, 54290 Trier
DTSTAMP:20260424T085939
SUMMARY:Wort und Musik
DESCRIPTION:mit musikalischem Auftakt und Schlussakkord
UID:EVENTS-14303-108563
END:VEVENT
END:VCALENDAR