BEGIN:VCALENDAR
PRODID:-//events.click-around.systems//click around EVENTS//EN
VERSION:2.0
METHOD:PUBLISH
BEGIN:VEVENT
CLASS:PUBLIC
DTSTART:20260422T143000
DTEND:20260422T151500
LOCATION:Liebfrauenkirche, Liebfrauenstraße, 54290 Trier
DTSTAMP:20260424T090007
SUMMARY:Wort und Musik
DESCRIPTION:mit musikalischem Auftakt und Schlussakkord
UID:EVENTS-14303-108565
END:VEVENT
END:VCALENDAR