BEGIN:VCALENDAR
PRODID:-//events.click-around.systems//click around EVENTS//DE
VERSION:2.0
METHOD:PUBLISH
BEGIN:VEVENT
CLASS:PUBLIC
DTSTART:20260425T190000
LOCATION:Tuchfabrik, Kleiner Saal, Wechselstraße 4, 54290 Trier
DTSTAMP:20260425T114532
SUMMARY:Macbeth * Lady
DESCRIPTION:Macbeth * Lady verwandelt Shakespeares blutigste Tragödie in ein modernes Spiel über Ehrgeiz, Geschlechterrollen und den ewigen Fluch des Theaters. \n\nZwischen Hexen, Humor und Hochspannung verliert sich Macbeth im Nebel seiner eigenen Prophezeiung und gibt natürlich seiner Frau die ganze Schuld.\n\nMacbeth, gefeierter Kriegsheld, trifft nach einem Sieg im Nebel der Heide auf drei Hexen. Was sie sagen, klingt zunächst wie Spott, dann wie Verheißung – und schließlich wie ein Gift, das sich in seine Gedanken frisst. Als sich erste Teile der Prophezeiung tatsächlich zu erfüllen scheinen, wird aus Ehrgeiz Gewissheit: Der Thron ist kein Traum mehr, sondern ein Plan. Und ein Plan braucht Taten.\n\nMacbeth * Lady erzählt diese Eskalation konsequent als Kettenreaktion: Ein Satz zur falschen Zeit, ein Blick, der zu viel bedeutet, ein Missverständnis in der Ehe – und schon kippt die Welt. \n\nAber Achtung, Machtübernahme! Lady Macbeth tritt aus dem Schatten und übernimmt die Bühne.\n\nDas Katz Theater Trier zeigt eine satirische Adaption zwischen Farce und Tragödie – bissig, feministisch und herrlich böse.\n\nWer zuerst ein Ticket kauft, herrscht länger.\n\nEinlass: 18.30 Uhr
UID:EVENTS-14493-110190
END:VEVENT
END:VCALENDAR