BEGIN:VCALENDAR
PRODID:-//events.click-around.systems//click around EVENTS//EN
VERSION:2.0
METHOD:PUBLISH
BEGIN:VEVENT
CLASS:PUBLIC
DTSTART:20260422T170000
LOCATION:Simeonstiftplatz, Simeonstiftplatz, 54290 Trier
DTSTAMP:20260424T085250
SUMMARY:Weintour inklusive kurzer Informationen zur Stadt
DESCRIPTION:Eine Probe von 4 Weinen im historischen Weinkeller, vom Winzer fachlich kommentiert!\n\nBei uns wird die Weinprobe zum Erlebnis! Kommen Sie auf unser wunderschön gelegenes Weingut von Nell und probieren Sie original Trierer Weine! Mit unserem Transferservice brauchen Sie sich auch kein Tröpfchen entgehen lassen. Wir holen Sie mit unserem schönen Bus im Retrodesign um 17.00 Uhr in der Nähe der Porta Nigra ab: Franz-Ludwig-Straße / Simeonstiftplatz (zwischen Tourist-Information und Porta Nigra durch den Brunnenhof, über Simeonstiftplatz, vorsichtig die Straße überqueren – hier treffen wir uns).\n\nWährend der Führung durch den Edelstahl- und Holzfasskeller informieren wir Sie über unsere selbst hergestellten Weine. Direkt in Trier gewachsen, erfahren Sie alles rund um unsere leckeren Weine und deren Entstehung. Gegen 19.00 Uhr erfolgt der Rücktransfer zur Porta Nigra – es sei denn, Sie möchten den Abend bei leckerem Wein und Essen in unseren gemütlich eingerichteten Weinstuben oder im schönen Innenhof ausklingen lassen. Wir fahren Sie gerne später individuell zurück. Wir haben eine regionale Speisekarte mit kleinen und großen Gerichten. Hier wird jeder etwas Passendes finden.  Wir freuen uns auf Sie!\n\nWenn Sie nach der Weinprobe noch auf dem Weingut verweilen möchten oder eine Tischreservierung zum Abendessen wünschen, bitten wir Sie, den Veranstalter per Telefon oder E-Mail zu kontaktieren.\n\nÖffnungszeiten Weinstube & Restaurant: Mi - Sa ab 18 Uhr
UID:EVENTS-14521-110463
END:VEVENT
END:VCALENDAR