BEGIN:VCALENDAR
PRODID:-//events.click-around.systems//click around EVENTS//EN
VERSION:2.0
METHOD:PUBLISH
BEGIN:VEVENT
CLASS:PUBLIC
DTSTART:20260418T180000
LOCATION:Sporthalle Mäusheckerweg, Mäusheckerweg, 54293 Trier
DTSTAMP:20260424T085745
SUMMARY:Doneck Dolphins Trier vs. Hannover United
DESCRIPTION:RSC Rollis '85 Trier e.V.
UID:EVENTS-14555-110655
END:VEVENT
END:VCALENDAR