BEGIN:VCALENDAR
PRODID:-//events.click-around.systems//click around EVENTS//DE
VERSION:2.0
METHOD:PUBLISH
BEGIN:VEVENT
CLASS:PUBLIC
DTSTART:20260425T100000
LOCATION:Forstamt, Am Rothenberg 10, 54293 Trier
DTSTAMP:20260425T115251
SUMMARY:Meulenwald-Olympiade
DESCRIPTION:Kannst du hüpfen, wie eine Kröte, klettern wie ein Eichhörnchen? Bist du kräftig, wie ein Mistkäfer? Bist du schnell, aufmerksam, clever und stark? \n\nDer Wald stellt euch heute vor einige Herausforderungen-Seid ihr bereit?\n\nWer wird der Sieger der Meulenwald-Olympiade und gewinnt die Medaille?\n\nReferentin: Marion Schmidt, Naturpädagogin\n\nZielgruppe: Familien mit Kindern von 6 - 10 Jahren\n\nDauer: 10.00 - 12.30 Uhr\n\nMitzubringen: witterungsangepasste, sportliche Kleidung, bequemes Schuhwerk, Getränke\n\nHunde sind nicht zugelassen.
UID:EVENTS-14605-110994
END:VEVENT
END:VCALENDAR