BEGIN:VCALENDAR
PRODID:-//events.click-around.systems//click around EVENTS//DE
VERSION:2.0
METHOD:PUBLISH
BEGIN:VEVENT
CLASS:PUBLIC
DTSTART:20260425T193000
LOCATION:Mergener Hof, Rindertanzstraße 4, 54290 Trier
DTSTAMP:20260425T114843
SUMMARY:Rump-fed-Ronyon & Menschenfresser
DESCRIPTION:FESTIVALSTALKER, TIME FOR METAL, METAL DIVISION MAGAZINE, METALFANS4METALBANDS, SAARLAND UNDERGROUND, ROCKLAND RADIO, INITIATIVE MUSIK & MERGENER HOF proudly present:\n\nRUMPF-fed-RONYON & MENSCHENFRESSER + GRINDEYE\nMOSEL MAYHEM 2026\n\nMOSEL MAYHEM UNDERGROUND FESTIVAL EST. 2026\n\nDas erste Line-up für das neue Underground-Festival „Mosel Mayhem“ steht!\n\nFreut euch auf einen Abend mit regionalen Bands, bei dem man Freunde trifft, gemeinsam anstößt und ehrliche Live-Musik genießt. Authentisch, laut und mitten aus der Szene.\n \nRUMPF-fed-RONYON\n\nTIGHT RIFFS, HEAVY GROOVES & FUCK OF ATTITUDE.\nPURE, RAW, NO FANCY STUFF.\n\nMODERN FUCKIN' DEATHMETAL EST. 2007\n\nDas Quintett aus Trier präsentiert sein neues Album "RfR", welches gleichzeitig für einen Neuanfang, als auch eine Rückbesinnung auf die guten alten Zeiten von handgemachter Musik steht. Eine brachiale, energiegeladene Show ist garantiert wenn RUMP-fed-RONYON die Bühne betritt.\n\nMENSCHENFRESSER – Thrashiger Black/Death Metal trifft auf Horrorfilm-Ästhetik!\n\nDie Band wurde 2006 in Trier von Christian Knechtel (Gitarre) und Holger Rodammer (Gesang, Schlagzeug) gegründet. Seit 2022 wird das Line-up durch Manuel Biwer am Bass ergänzt. Musikalisch verbindet die Band düsteren Black Metal, groovigen Death Metal und Thrash, begleitet von einer intensiven Horrorfilm-Ästhetik und deutschsprachigen Texten im Stil des „Horror Metal“.\n\nDie Leidenschaft für Horror zeigt sich auch im Artwork: Horrorfilm-Legende Tom Sullivan („Evil Dead“) gestaltete mehrere Cover, die sogar im „Evil Dead Museum“ ausgestellt sind. Zudem steuerte die Band Songs zur „Evil Dead“-Dokumentation sowie zu den Filmen „The Evil Within Us“ und „The Expressionless“ (beide 2015) bei.\n\nMit mehreren Neuveröffentlichungen im Rücken bleibt die Band aktiv: Das aktuelle Werk „Gönn Dir“ liefert kompromisslosen Horror Metal mit düsterem Groove.\n\nGRINDEYE – Das Powerhouse aus Trier\n\nGRINDEYE steht für energiegeladenen Instrumental-Sound zwischen Post-Rock, Metal, Stoner und Sludge. Die Band aus Trier verbindet atmosphärische Klanglandschaften mit wuchtigen Riffs und hypnotischer Schwere – kraftvoll, intensiv und kompromisslos.\n\nLive entfaltet GRINDEYE ihre ganze Stärke: Mal brachial und mitreißend, mal treibend und sphärisch. Handgemachte Musik mit Druck, Dynamik und Charakter – ein echtes Erlebnis fernab von Stillstand und Belanglosigkeit.\n\nEinlass: 19.00 Uhr
UID:EVENTS-14674-111407
END:VEVENT
END:VCALENDAR