BEGIN:VCALENDAR
PRODID:-//events.click-around.systems//click around EVENTS//DE
VERSION:2.0
METHOD:PUBLISH
BEGIN:VEVENT
CLASS:PUBLIC
DTSTART:20260425T120000
LOCATION:CinemaxX, Moselstraße 17, 54290 Trier
DTSTAMP:20260425T115240
SUMMARY:Hoppers
DESCRIPTION:Was läuft in der Tierwelt heute so?\n\nDas findet man am besten heraus, wenn man selbst zum Tier wird. In Disney Pixars HOPPERS gewinnt Tierfreundin Mabel als Biber äußerst überraschende Erkenntnisse. Aber anstatt sich an die Regeln zu halten, stellt sie die natürliche Ordnung völlig auf den Kopf und zettelt einen tierischen Aufstand an. Und das nur, weil sie unbedingt den Teich retten will.
UID:EVENTS-14705-115158
END:VEVENT
END:VCALENDAR