BEGIN:VCALENDAR
PRODID:-//events.click-around.systems//click around EVENTS//DE
VERSION:2.0
METHOD:PUBLISH
BEGIN:VEVENT
CLASS:PUBLIC
DTSTART:20260425T110000
LOCATION:Forstamt, Am Rothenberg 10, 54293 Trier
DTSTAMP:20260425T115149
SUMMARY:Die Wilden 5
DESCRIPTION:Ab in den Wald!\n\nKinder ab 6 Jahren entdecken den Wald spielerisch, bewegend und achtsam. Wir lauschen, spüren, balancieren, bewegen uns zwischen Bäumen und Moos, entspannen zwischendurch — und werden kreativ mit dem, was die Natur uns schenkt.\n\nEin lebendiger Mix aus:\n\nAchtsamkeits- & Sinnesübungen\nBewegung, Naturerfahrung & naturpädagogischen Spielen\nkindgerechtem Wald-Yoga\nkreativen Bastelaktionen aus Naturmaterialien\nEntspannung & Fantasie\n\n\nIch freue mich auf dich — wir sehen uns im Wald!\nElena\n\nVon 11.00 bis 13.30 Uhr\nFür Kinder ab 6 Jahren\n(Jüngere nach Absprache)
UID:EVENTS-14754-111772
END:VEVENT
END:VCALENDAR