BEGIN:VCALENDAR
PRODID:-//events.click-around.systems//click around EVENTS//EN
VERSION:2.0
METHOD:PUBLISH
BEGIN:VEVENT
CLASS:PUBLIC
DTSTART:20260422T090000
DTEND:20260422T130000
LOCATION:Europäische Rechtsakademie ERA, Metzer Allee 4, 54295 Trier
DTSTAMP:20260424T090130
SUMMARY:‘2 lives for art’
DESCRIPTION:In an exciting dialogue, the sculptures and paintings encounter each other, opening up new perspectives on form, colour and space.
UID:EVENTS-14760-111800
END:VEVENT
END:VCALENDAR