BEGIN:VCALENDAR
PRODID:-//events.click-around.systems//click around EVENTS//DE
VERSION:2.0
METHOD:PUBLISH
BEGIN:VEVENT
CLASS:PUBLIC
DTSTART:20260425T090000
DTEND:20260425T170000
LOCATION:Museum am Dom, Platz der Menschenwürde 1, 54290 Trier
DTSTAMP:20260425T114939
SUMMARY:Zu Tisch! Das “Letzte Abendmahl”
DESCRIPTION:Die Sonderausstellung „Zu Tisch! Das (letzte) Abendmahl zwischen Sakrament, Kunst und Kitsch“ entfaltet das ikonische Motiv als eines der bekanntesten Bildthemen unserer westlichen Kulturgeschichte in all seiner faszinierenden Ambivalenz. Die Schau präsentiert die enorme Spannweite dieses Themas und schlägt eine Brücke von der sakralen Tiefe bis hin zur kuriosen Alltagsästhetik. \nDie Reise führt von den theologischen Wurzeln im Sakrament und als Sinnbild für (christliche) Gemeinschaft über meisterhafte und tiefgehende Interpretationen der Hochkunst durch verschiedene Epochen und Kulturen bis hin zur spielerischen, teils bizarr wirkenden Aneignung in der Zeit der Jahrhundertwende bis zur modernen Popkultur. \nDie Besucher*innen sind eingeladen, den schmalen Grat zwischen ehrfürchtiger Verehrung und trivialer Massenware zu erkunden. Erleben Sie, wie das Abendmahl als zeitloses Symbol für Verrat, Hoffnung und Tischgemeinschaft bis heute fasziniert. Eine visuelle Entdeckungsreise für Groß und Klein, die beweist: Dieses Bild ist weit mehr als nur eine biblische Szene – es ist eine Ikone und ein Spiegel unserer Gesellschaft.
UID:EVENTS-14789-112982
END:VEVENT
END:VCALENDAR