BEGIN:VCALENDAR
PRODID:-//events.click-around.systems//click around EVENTS//EN
VERSION:2.0
METHOD:PUBLISH
BEGIN:VEVENT
CLASS:PUBLIC
DTSTART:20260418T200000
LOCATION:Mergener Hof, Keller, Rindertanzstraße 4, 54290 Trier
DTSTAMP:20260424T090103
SUMMARY:Trierer Poetry Slam
DESCRIPTION:Poetry slam is no longer a secret, but it's become the cult format of the moment: young, on the pulse of the times, topical, political, funny, lyrical, heartwarming, weird, beautiful, and always a unique evening when the poets storm the stage with their self-penned, contemporary slam poetry and the verbal sparks fly.\n\nAnd which performance, which text, whether spoken, shouted, or whispered, leaves the strongest impression on the audience? Prose and poetry, genius and madness, shock and awe—in this literary freestyle competition, the audience decides who wins and who loses. Each artist has seven minutes to present their text.\n\nWhether funny, loud, or quiet—here, the applause alone decides.\n\nThe Lineup\n\nLisa Ixfeld - Trier\nArtem Zolotarov - Mainz\nEllen - Trier\nTjark Schütze - Trier\nAaron Hilgert - Koblenz\nRune Vollbehr - Munich\n\nFeatured Poet: TBD\n\nAlmost every third Saturday of the month!\n\nDoors open at 7:30 pm\n\nTickets include a reserved seat.
UID:EVENTS-14803-112118
END:VEVENT
END:VCALENDAR