BEGIN:VCALENDAR
PRODID:-//events.click-around.systems//click around EVENTS//EN
VERSION:2.0
METHOD:PUBLISH
BEGIN:VEVENT
CLASS:PUBLIC
DTSTART:20260422T200000
LOCATION:Mergener Hof, Keller, Rindertanzstraße 4, 54290 Trier
DTSTAMP:20260424T084506
SUMMARY:Magischer Mittwoch
DESCRIPTION:The Magic Circle of Trier invites you to Magical Wednesday Vol. 5:\n\nFlorian Herz and Dr. Walter Pfeifer will transport the audience to a world of wonder and amaze with enchanting moments. An evening dedicated entirely to magic.\n\nDoors open at 7:30 p.m.
UID:EVENTS-14851-112198
END:VEVENT
END:VCALENDAR