BEGIN:VCALENDAR
PRODID:-//events.click-around.systems//click around EVENTS//DE
VERSION:2.0
METHOD:PUBLISH
BEGIN:VEVENT
CLASS:PUBLIC
DTSTART:20260425T140000
DTEND:20260425T160000
LOCATION:nestwärme e.V., Veranstaltungsraum, Brotstraße 28, 54290 Trier
DTSTAMP:20260425T114837
SUMMARY:nestwärme - kreativraum
DESCRIPTION:Inklusive Begegnungen, Spiel und Miteinander für Familien mit Kindern beim nestwärme e.V. in der Brotstraße 28. Der kreativraum 28 ist ein Angebot der nestwärme Zeit. Immer Samstags von 14 bis 16 Uhr.\nAm 25. April wollen wir zusammen Maibaum-Bänder gestalten, für uns zuhause und für den Maibaum, der beim nestwärme Haus am Petrisberg stehen wird.\n\nWeitere Termine: 2./9. Mai: Muttertagsgeschenke basteln. 16. Mai Piano und Gesang, 23. Mai Speckstein Workshop\n\n\nDie Aktionen werden durch Ehrenamtliche inhaltlich begleitet, jedoch ohne weiterführende Kinderbetreuung. Eltern haben die Aufsichtspflicht.
UID:EVENTS-14905-112835
END:VEVENT
END:VCALENDAR