BEGIN:VCALENDAR
PRODID:-//events.click-around.systems//click around EVENTS//EN
VERSION:2.0
METHOD:PUBLISH
BEGIN:VEVENT
CLASS:PUBLIC
DTSTART:20260418T093000
DTEND:20260418T120000
LOCATION:Stadtmuseum Simeonstift, Simeonstiftplatz, 54290 Trier
DTSTAMP:20260424T085531
SUMMARY:Aus alt mach Wow! Kreativworkshop zu Upcycling
DESCRIPTION:Im Rahmen des Zukunftsdiploms
UID:EVENTS-14946-112961
END:VEVENT
END:VCALENDAR