BEGIN:VCALENDAR
PRODID:-//events.click-around.systems//click around EVENTS//EN
VERSION:2.0
METHOD:PUBLISH
BEGIN:VEVENT
CLASS:PUBLIC
DTSTART:20260422T161500
LOCATION:Broadway Filmtheater, Paulinstraße 18, 54292 Trier
DTSTAMP:20260424T085939
SUMMARY:Der Super Mario Galaxy Film
DESCRIPTION:DER SUPER MARIO GALAXY FILM ist der neue Animationsfilm, basierend auf der Welt von „Super Mario Bros.“ Das erste Mario-Abenteuer Der Super Mario Bros. Film startete 2023 in den Kinos, spielte weltweit mehr als 1,3 Milliarden Dollar ein und begeisterte in Deutschland mehr als 5 Millionen Kinozuschauer.
UID:EVENTS-14958-114671
END:VEVENT
END:VCALENDAR