BEGIN:VCALENDAR
PRODID:-//events.click-around.systems//click around EVENTS//EN
VERSION:2.0
METHOD:PUBLISH
BEGIN:VEVENT
CLASS:PUBLIC
DTSTART:20260418T193000
LOCATION:Theater, Großes Haus, Am Augustinerhof 3, 54290 Trier
DTSTAMP:20260424T085612
SUMMARY:Trier singt mit Guildo - Der Mitsingspaß
DESCRIPTION:
UID:EVENTS-14968-113624
END:VEVENT
END:VCALENDAR